BEGIN:VCALENDAR
VERSION:2.0
PRODID:-//Tipperary Library Service - ECPv4.6.1//NONSGML v1.0//EN
CALSCALE:GREGORIAN
METHOD:PUBLISH
X-WR-CALNAME:Tipperary Library Service
X-ORIGINAL-URL:http://www.tipperarylibraries.ie
X-WR-CALDESC:Events for Tipperary Library Service
BEGIN:VEVENT
DTSTART;TZID=UTC+0:20171005T140000
DTEND;TZID=UTC+0:20171005T160000
DTSTAMP:20171029T102451
CREATED:20170902T143237Z
LAST-MODIFIED:20170904T085438Z
UID:39525-1507212000-1507219200@www.tipperarylibraries.ie
SUMMARY:Active Retirement in Nenagh
DESCRIPTION:Every Thursday at 2:00-4:00pm \n
URL:http://www.tipperarylibraries.ie/event/active-retirement/2017-10-05/
CATEGORIES:Nenagh Events
ATTACH;FMTTYPE=image/gif:http://www.tipperarylibraries.ie/wp-content/uploads/2017/09/lok.gif
END:VEVENT
END:VCALENDAR