BEGIN:VCALENDAR
VERSION:2.0
PRODID:-//Tipperary Library Service - ECPv4.6.1//NONSGML v1.0//EN
CALSCALE:GREGORIAN
METHOD:PUBLISH
X-WR-CALNAME:Tipperary Library Service
X-ORIGINAL-URL:http://www.tipperarylibraries.ie
X-WR-CALDESC:Events for Tipperary Library Service
BEGIN:VEVENT
DTSTART;TZID=UTC+0:20170601T143000
DTEND;TZID=UTC+0:20170601T163000
DTSTAMP:20171108T185049
CREATED:20160425T111130Z
LAST-MODIFIED:20160425T111130Z
UID:32718-1496327400-1496334600@www.tipperarylibraries.ie
SUMMARY:Carrick on Suir Knitting Group
DESCRIPTION:Knitting \nThe Carrick on Suir Knitters meet every Thursday between 2.30pm and 4.30pm. Why not come along and knit and natter and enjoy a cuppa tea. All ages\, all levels welcome. \n
URL:http://www.tipperarylibraries.ie/event/carrick-on-suir-knitting-group/2017-06-01/
CATEGORIES:Carrick-on-Suir Events
ATTACH;FMTTYPE=image/jpeg:http://www.tipperarylibraries.ie/wp-content/uploads/2015/11/DSCF3135-e1447079422430.jpg
END:VEVENT
END:VCALENDAR