BEGIN:VCALENDAR
VERSION:2.0
PRODID:-//Tipperary Library Service - ECPv4.6.1//NONSGML v1.0//EN
CALSCALE:GREGORIAN
METHOD:PUBLISH
X-WR-CALNAME:Tipperary Library Service
X-ORIGINAL-URL:http://www.tipperarylibraries.ie
X-WR-CALDESC:Events for Tipperary Library Service
BEGIN:VEVENT
DTSTART;TZID=UTC+0:20171005T110000
DTEND;TZID=UTC+0:20171005T130000
DTSTAMP:20171029T102046
CREATED:20160425T111823Z
LAST-MODIFIED:20170814T095750Z
UID:34130-1507201200-1507208400@www.tipperarylibraries.ie
SUMMARY:Carrick on Suir Library Women's Discussion Group
DESCRIPTION:  \nCarrick Women&#8217;s Discussion Group meets every Thursday morning beyween 11am and 1pm. All welcome. \n
URL:http://www.tipperarylibraries.ie/event/carrick-on-suir-library-womens-discussion-group-2017-08-03/2017-10-05/
CATEGORIES:Carrick-on-Suir Events
ATTACH;FMTTYPE=image/jpeg:http://www.tipperarylibraries.ie/wp-content/uploads/2016/04/women.jpg
END:VEVENT
END:VCALENDAR