BEGIN:VCALENDAR
VERSION:2.0
PRODID:-//Tipperary Library Service - ECPv4.6.1//NONSGML v1.0//EN
CALSCALE:GREGORIAN
METHOD:PUBLISH
X-WR-CALNAME:Tipperary Library Service
X-ORIGINAL-URL:http://www.tipperarylibraries.ie
X-WR-CALDESC:Events for Tipperary Library Service
BEGIN:VEVENT
DTSTART;TZID=UTC+0:20171006T140000
DTEND;TZID=UTC+0:20171006T150000
DTSTAMP:20171029T102816
CREATED:20170324T164050Z
LAST-MODIFIED:20170324T164050Z
UID:36271-1507298400-1507302000@www.tipperarylibraries.ie
SUMMARY:Cashel: French Conversation Group
DESCRIPTION:New French Conversation Group to meet in Cashel library every Friday from 2pm-3pm starting Friday March 31st. The group will be faciltated for FREE by French native Christine! This is a great opportunity for French learners of all levels to practise their French! \n
URL:http://www.tipperarylibraries.ie/event/cashel-french-conversation-group/2017-10-06/
CATEGORIES:Cashel Events,Events
ATTACH;FMTTYPE=image/jpeg:http://www.tipperarylibraries.ie/wp-content/uploads/2017/03/bonjour.jpg
END:VEVENT
END:VCALENDAR