BEGIN:VCALENDAR
VERSION:2.0
PRODID:-//Tipperary Library Service - ECPv4.6.1//NONSGML v1.0//EN
CALSCALE:GREGORIAN
METHOD:PUBLISH
X-WR-CALNAME:Tipperary Library Service
X-ORIGINAL-URL:http://www.tipperarylibraries.ie
X-WR-CALDESC:Events for Tipperary Library Service
BEGIN:VEVENT
DTSTART;TZID=UTC+0:20161121T093000
DTEND;TZID=UTC+0:20161121T170000
DTSTAMP:20171108T190408
CREATED:20161110T163702Z
LAST-MODIFIED:20161110T163702Z
UID:34594-1479720600-1479747600@www.tipperarylibraries.ie
SUMMARY:Cashel: November Exhibition by Olga Undra
DESCRIPTION:Olga is a self taught artist and has been living in Ireland for the last 10 years. For as long as she can remember she has always been interested in art\, from photography to embroidery and painting. From 2012-2013 she studied art in Clonmel Technical Institute. There she met a group of artists and together they formed Reflections Art Group. The group meets every Monday and weather permitting paint outdoors every Thursday during the Summer. \nHer exhibition runs in Cashel library until the 30th of November and is well worth coming to see! \n
URL:http://www.tipperarylibraries.ie/event/cashel-november-exhibition-by-olga-undra/2016-11-21/
CATEGORIES:Cashel Events,Exhibitions
ATTACH;FMTTYPE=image/jpeg:http://www.tipperarylibraries.ie/wp-content/uploads/2016/11/DSCF09251.jpg
END:VEVENT
END:VCALENDAR