BEGIN:VCALENDAR
VERSION:2.0
PRODID:-//Tipperary Library Service - ECPv4.6.1//NONSGML v1.0//EN
CALSCALE:GREGORIAN
METHOD:PUBLISH
X-WR-CALNAME:Tipperary Library Service
X-ORIGINAL-URL:http://www.tipperarylibraries.ie
X-WR-CALDESC:Events for Tipperary Library Service
BEGIN:VEVENT
DTSTART;TZID=UTC+0:20141209T154500
DTEND;TZID=UTC+0:20141209T171500
DTSTAMP:20171108T134208
CREATED:20141127T134732Z
LAST-MODIFIED:20141204T111707Z
UID:23140-1418139900-1418145300@www.tipperarylibraries.ie
SUMMARY:CLONMEL: Juvenile Book Clubs Christmas Party 
DESCRIPTION:This year&#8217;s Christmas party for both 7-9 and 10-12 book clubs will be held on Tuesday 9th at 3.45pm \n
URL:http://www.tipperarylibraries.ie/event/clonmel-juvenile-book-clubs-christmas-party/
CATEGORIES:Clonmel Events,Kids Book Club,Kids Events
ATTACH;FMTTYPE=image/jpeg:http://www.tipperarylibraries.ie/wp-content/uploads/2014/11/Xmas-Book-Club-header.jpg
END:VEVENT
END:VCALENDAR