BEGIN:VCALENDAR
VERSION:2.0
PRODID:-//Tipperary Library Service - ECPv4.6.1//NONSGML v1.0//EN
CALSCALE:GREGORIAN
METHOD:PUBLISH
X-WR-CALNAME:Tipperary Library Service
X-ORIGINAL-URL:http://www.tipperarylibraries.ie
X-WR-CALDESC:Events for Tipperary Library Service
BEGIN:VEVENT
DTSTART;TZID=UTC+0:20171009T160000
DTEND;TZID=UTC+0:20171009T170000
DTSTAMP:20171029T103245
CREATED:20171011T163841Z
LAST-MODIFIED:20171011T165721Z
UID:40493-1507564800-1507568400@www.tipperarylibraries.ie
SUMMARY:Clonmel Library: Children's Book Club (7-8 Years Old)
DESCRIPTION:Crazy about books or Reluctant to read? \nCome along to Clonmel Library and discover a exciting world of brilliant books and foster a love of reading for life. \nNew members welcome. \n
URL:http://www.tipperarylibraries.ie/event/clonmel-library-childrens-book-club-7-8-years-old/2017-10-09/
CATEGORIES:Clonmel Events,Events,Kids Book Club,Kids Events
ATTACH;FMTTYPE=image/jpeg:http://www.tipperarylibraries.ie/wp-content/uploads/2017/09/Kids-Book-Clubs.jpg
END:VEVENT
END:VCALENDAR