BEGIN:VCALENDAR
VERSION:2.0
PRODID:-//Tipperary Library Service - ECPv4.6.1//NONSGML v1.0//EN
CALSCALE:GREGORIAN
METHOD:PUBLISH
X-WR-CALNAME:Tipperary Library Service
X-ORIGINAL-URL:http://www.tipperarylibraries.ie
X-WR-CALDESC:Events for Tipperary Library Service
BEGIN:VEVENT
DTSTART;TZID=UTC+0:20141013T100000
DTEND;TZID=UTC+0:20141013T120000
DTSTAMP:20171108T134951
CREATED:20141029T190306Z
LAST-MODIFIED:20141029T190306Z
UID:22176-1413194400-1413201600@www.tipperarylibraries.ie
SUMMARY:Clonmel Library Morning Book Club 
DESCRIPTION:The Morning Book Club meets once a month on the second Monday. \nNew members are welcome to join this long-running club. \n
URL:http://www.tipperarylibraries.ie/event/clonmel-library-morning-book-club/2014-10-13/
CATEGORIES:Adult Book Clubs,Clonmel Events
ATTACH;FMTTYPE=image/jpeg:http://www.tipperarylibraries.ie/wp-content/uploads/2014/10/book-club-2.jpg
END:VEVENT
END:VCALENDAR