BEGIN:VCALENDAR
VERSION:2.0
PRODID:-//Tipperary Library Service - ECPv4.6.1//NONSGML v1.0//EN
CALSCALE:GREGORIAN
METHOD:PUBLISH
X-WR-CALNAME:Tipperary Library Service
X-ORIGINAL-URL:http://www.tipperarylibraries.ie
X-WR-CALDESC:Events for Tipperary Library Service
BEGIN:VEVENT
DTSTART;TZID=UTC+0:20141218T180000
DTEND;TZID=UTC+0:20141218T184500
DTSTAMP:20171108T132310
CREATED:20141127T163237Z
LAST-MODIFIED:20141127T163237Z
UID:23149-1418925600-1418928300@www.tipperarylibraries.ie
SUMMARY:CLONMEL LIBRARY: Polar Express Pyjama Party 2014
DESCRIPTION:All Aboard the Polar Express!!!  \n \nPlaces are limited. \nBook your ticket now. \nParents and carers\, you must come to Clonmel Library to fill in a permission slip for each child. \nClonmel Library 052-6124545 \n
URL:http://www.tipperarylibraries.ie/event/clonmel-library-polar-express-pyjama-party-2014/
CATEGORIES:Clonmel Events,Kids Events
ATTACH;FMTTYPE=image/jpeg:http://www.tipperarylibraries.ie/wp-content/uploads/2014/11/polar-express.jpg
END:VEVENT
END:VCALENDAR