BEGIN:VCALENDAR
VERSION:2.0
PRODID:-//Tipperary Library Service - ECPv4.6.1//NONSGML v1.0//EN
CALSCALE:GREGORIAN
METHOD:PUBLISH
X-WR-CALNAME:Tipperary Library Service
X-ORIGINAL-URL:http://www.tipperarylibraries.ie
X-WR-CALDESC:Events for Tipperary Library Service
BEGIN:VEVENT
DTSTART;TZID=UTC+0:20141118T190000
DTEND;TZID=UTC+0:20141118T200000
DTSTAMP:20171108T134359
CREATED:20141115T161933Z
LAST-MODIFIED:20141115T161933Z
UID:22719-1416337200-1416340800@www.tipperarylibraries.ie
SUMMARY:CLONMEL: Skype Book Club 
DESCRIPTION:Skype Book Club takes place every three months. Skyping with Peorian readers in Illinois\, USA. \n  \n
URL:http://www.tipperarylibraries.ie/event/clonmel-skype-book-club/
CATEGORIES:Adult Book Clubs,Clonmel Events
ATTACH;FMTTYPE=image/jpeg:http://www.tipperarylibraries.ie/wp-content/uploads/2014/11/peoria-skype-bkclub-2.jpg
END:VEVENT
END:VCALENDAR