BEGIN:VCALENDAR
VERSION:2.0
PRODID:-//Tipperary Library Service - ECPv4.6.1//NONSGML v1.0//EN
CALSCALE:GREGORIAN
METHOD:PUBLISH
X-WR-CALNAME:Tipperary Library Service
X-ORIGINAL-URL:http://www.tipperarylibraries.ie
X-WR-CALDESC:Events for Tipperary Library Service
BEGIN:VEVENT
DTSTART;TZID=UTC+0:20141217T113000
DTEND;TZID=UTC+0:20141217T173000
DTSTAMP:20171108T133350
CREATED:20141205T142941Z
LAST-MODIFIED:20141205T142941Z
UID:23328-1418815800-1418837400@www.tipperarylibraries.ie
SUMMARY:Coffee & Carols in Killenaule Library
DESCRIPTION:
URL:http://www.tipperarylibraries.ie/event/coffee-carols-in-killenaule-library/
CATEGORIES:Events,Killenaule Events
END:VEVENT
END:VCALENDAR