BEGIN:VCALENDAR
VERSION:2.0
PRODID:-//Tipperary Library Service - ECPv4.6.1//NONSGML v1.0//EN
CALSCALE:GREGORIAN
METHOD:PUBLISH
X-WR-CALNAME:Tipperary Library Service
X-ORIGINAL-URL:http://www.tipperarylibraries.ie
X-WR-CALDESC:Events for Tipperary Library Service
BEGIN:VEVENT
DTSTART;TZID=UTC+0:20141014T100000
DTEND;TZID=UTC+0:20141014T120000
DTSTAMP:20171108T135124
CREATED:20141029T191215Z
LAST-MODIFIED:20141029T191215Z
UID:22179-1413280800-1413288000@www.tipperarylibraries.ie
SUMMARY:Craft Circle in Clonmel Library
DESCRIPTION:Meet like-minded crafters! Whether you are just beginning or have a skill to teach\, all are welcome. \n
URL:http://www.tipperarylibraries.ie/event/craft-circle-in-clonmel-library/2014-10-14/
CATEGORIES:Clonmel Events
ATTACH;FMTTYPE=image/png:http://www.tipperarylibraries.ie/wp-content/uploads/2014/10/Clonmel-Craft-Circle-.png
END:VEVENT
END:VCALENDAR