BEGIN:VCALENDAR
VERSION:2.0
PRODID:-//Tipperary Library Service - ECPv4.6.1//NONSGML v1.0//EN
CALSCALE:GREGORIAN
METHOD:PUBLISH
X-WR-CALNAME:Tipperary Library Service
X-ORIGINAL-URL:http://www.tipperarylibraries.ie
X-WR-CALDESC:Events for Tipperary Library Service
BEGIN:VEVENT
DTSTART;TZID=UTC+0:20171005T100000
DTEND;TZID=UTC+0:20171005T123000
DTSTAMP:20171029T101949
CREATED:20171003T142946Z
LAST-MODIFIED:20171003T143257Z
UID:40068-1507197600-1507206600@www.tipperarylibraries.ie
SUMMARY:Dave Rudden: author visit to Thurles Library
DESCRIPTION:Dave Rudden\, author of &#8216;Knights of the Borrowed Dark&#8217; and &#8216;The Forever Court&#8217;\, brings his super high energy talk full of readings\, writing tips\, and jokes! \nThis event is for an invited audience only. \n
URL:http://www.tipperarylibraries.ie/event/dave-rudden-author-visit-2/
CATEGORIES:Thurles Events
ATTACH;FMTTYPE=image/jpeg:http://www.tipperarylibraries.ie/wp-content/uploads/2017/10/Dave-Rudden-Headshot.jpg
END:VEVENT
END:VCALENDAR