BEGIN:VCALENDAR
VERSION:2.0
PRODID:-//Tipperary Library Service - ECPv4.6.1//NONSGML v1.0//EN
CALSCALE:GREGORIAN
METHOD:PUBLISH
X-WR-CALNAME:Tipperary Library Service
X-ORIGINAL-URL:http://www.tipperarylibraries.ie
X-WR-CALDESC:Events for Tipperary Library Service
BEGIN:VEVENT
DTSTART;TZID=UTC+0:20171004T140000
DTEND;TZID=UTC+0:20171004T153000
DTSTAMP:20171029T101708
CREATED:20170928T151458Z
LAST-MODIFIED:20170928T151458Z
UID:40029-1507125600-1507131000@www.tipperarylibraries.ie
SUMMARY:Day Care Centre Table Quiz in Cashel Library
DESCRIPTION:Cashel Library welcomes clients of Cashel Day Care Centre for three days of tables quizzes\, tea and cake on Tuesday 3rd\, Wednesday 4th and Thursday 5th of October. \n
URL:http://www.tipperarylibraries.ie/event/day-care-centre-table-quiz-in-cashel-library-2/
CATEGORIES:Cashel Events
ATTACH;FMTTYPE=image/jpeg:http://www.tipperarylibraries.ie/wp-content/uploads/2017/09/day-care-centre-quiz-Feb-2016-002.jpg
END:VEVENT
END:VCALENDAR