BEGIN:VCALENDAR
VERSION:2.0
PRODID:-//Tipperary Library Service - ECPv4.6.1//NONSGML v1.0//EN
CALSCALE:GREGORIAN
METHOD:PUBLISH
X-WR-CALNAME:Tipperary Library Service
X-ORIGINAL-URL:http://www.tipperarylibraries.ie
X-WR-CALDESC:Events for Tipperary Library Service
BEGIN:VEVENT
DTSTART;TZID=UTC+0:20150129T160000
DTEND;TZID=UTC+0:20150129T164500
DTSTAMP:20171108T132831
CREATED:20150123T110118Z
LAST-MODIFIED:20150123T110349Z
UID:24672-1422547200-1422549900@www.tipperarylibraries.ie
SUMMARY:'DOGS' STORYTIME IN CLONMEL LIBRARY
DESCRIPTION:This month&#8217;s special story time theme is &#8216;Dogs&#8217;. \nCan you think of a really silly name for a dog? \nLearn how to draw a dog. We will display your drawings in the Library. \nListen to some funny  stories about some very silly doggies&#8230;.. \n
URL:http://www.tipperarylibraries.ie/event/dogs-storytime-in-clonmel-library/
ATTACH;FMTTYPE=image/jpeg:http://www.tipperarylibraries.ie/wp-content/uploads/2015/01/dogs-storytime.jpg
END:VEVENT
END:VCALENDAR