BEGIN:VCALENDAR
VERSION:2.0
PRODID:-//Tipperary Library Service - ECPv4.6.1//NONSGML v1.0//EN
CALSCALE:GREGORIAN
METHOD:PUBLISH
X-WR-CALNAME:Tipperary Library Service
X-ORIGINAL-URL:http://www.tipperarylibraries.ie
X-WR-CALDESC:Events for Tipperary Library Service
BEGIN:VEVENT
DTSTART;TZID=UTC+0:20150210T110000
DTEND;TZID=UTC+0:20150210T120000
DTSTAMP:20171108T132700
CREATED:20150123T124513Z
LAST-MODIFIED:20150123T124513Z
UID:24779-1423566000-1423569600@www.tipperarylibraries.ie
SUMMARY:Engineers Week in Cahir
DESCRIPTION:Mr Dave Carroll will give a talk to the boys of 6th class from Cahir Boys National School during Engineers week in the library on 10th February. \n
URL:http://www.tipperarylibraries.ie/event/engineers-week-in-cahir/
CATEGORIES:Cahir Library,Events
END:VEVENT
END:VCALENDAR