BEGIN:VCALENDAR
VERSION:2.0
PRODID:-//Tipperary Library Service - ECPv4.6.1//NONSGML v1.0//EN
CALSCALE:GREGORIAN
METHOD:PUBLISH
X-WR-CALNAME:Tipperary Library Service
X-ORIGINAL-URL:http://www.tipperarylibraries.ie
X-WR-CALDESC:Events for Tipperary Library Service
BEGIN:VEVENT
DTSTART;TZID=UTC+0:20170128T090000
DTEND;TZID=UTC+0:20170128T170000
DTSTAMP:20171108T185338
CREATED:20170113T113113Z
LAST-MODIFIED:20170113T113113Z
UID:35573-1485594000-1485622800@www.tipperarylibraries.ie
SUMMARY:Exhibition of landscapes and still lifes in Nenagh Library for January.
DESCRIPTION:For the month of January Carmel Fitzsimons\, Mary Ryan\, Catherine O&#8217;Connor\, Ann Shinnors and Pat Harvey will exhibiting some wonderful paintings in Nenagh Library&#8217;s exhibition room. \n
URL:http://www.tipperarylibraries.ie/event/exhibition-of-landscapes-and-still-lifes-in-nenagh-library-for-january/2017-01-28/
CATEGORIES:Events,Nenagh Events
ATTACH;FMTTYPE=image/jpeg:http://www.tipperarylibraries.ie/wp-content/uploads/2017/01/ng.jpg
END:VEVENT
END:VCALENDAR