BEGIN:VCALENDAR
VERSION:2.0
PRODID:-//Tipperary Library Service - ECPv4.6.1//NONSGML v1.0//EN
CALSCALE:GREGORIAN
METHOD:PUBLISH
X-WR-CALNAME:Tipperary Library Service
X-ORIGINAL-URL:http://www.tipperarylibraries.ie
X-WR-CALDESC:Events for Tipperary Library Service
BEGIN:VEVENT
DTSTART;TZID=UTC+0:20150202T093000
DTEND;TZID=UTC+0:20150202T170000
DTSTAMP:20171108T133308
CREATED:20150131T114812Z
LAST-MODIFIED:20150131T114812Z
UID:25214-1422869400-1422896400@www.tipperarylibraries.ie
SUMMARY:February Exhibition in Cashel library: Seoda - Treasure of the Wetlands
DESCRIPTION:Tina Claffey is a BA (Hons) graduate in Photography from the Crawford College of Art in Cork city\, Ireland. \nShe returned to Ireland five years ago having lived and worked in the Republic of Botswana\, southern Africa for almost nine years. \nHer love for the African and the Irish natural world has resulted in an ongoing photographic documentation of these environments and their inhabitants from her unique perspective. \nShe has exhibited in solo and group shows throughout Ireland \, Botswana\, and more recently two of her images were chosen and digitally projected as part of the See | Me community’s ‘The Story of the Creative’ exhibition for emerging artists in Long Island City\, Queens\, New York City\, in July and August of 2013. \nHer show\, ‘Seoda-Treasure Under Foot’\, was featured on TG4’s Imeall Arts programme\, which aired in November 2013. Her current show ‘Seoda-Treasure of the Wetlands’ features additional images from the wet woodlands of the bogs\, and its inhabitants. \n
URL:http://www.tipperarylibraries.ie/event/february-exhibition-in-cashel-library-seoda-treasure-of-the-wetlands/2015-02-02/
CATEGORIES:Cashel Events,Events,Exhibitions
ATTACH;FMTTYPE=image/jpeg:http://www.tipperarylibraries.ie/wp-content/uploads/2015/01/poppy.jpg
END:VEVENT
END:VCALENDAR