BEGIN:VCALENDAR
VERSION:2.0
PRODID:-//Tipperary Library Service - ECPv4.6.1//NONSGML v1.0//EN
CALSCALE:GREGORIAN
METHOD:PUBLISH
X-WR-CALNAME:Tipperary Library Service
X-ORIGINAL-URL:http://www.tipperarylibraries.ie
X-WR-CALDESC:Events for Tipperary Library Service
BEGIN:VEVENT
DTSTART;TZID=UTC+0:20141209T183000
DTEND;TZID=UTC+0:20141209T193000
DTSTAMP:20171108T134315
CREATED:20141118T184647Z
LAST-MODIFIED:20141118T184647Z
UID:22799-1418149800-1418153400@www.tipperarylibraries.ie
SUMMARY:Nenagh: Christmas Pyjama Night
DESCRIPTION:Christmas Pyjama Night for Under 8s at Nenagh Library\, Tuesday December 9th at 6.30pm. Join us for Christmas stories\, songs\, hot chocolate and DVD showing. Wear your pyjamas\, no booking required. All children must be accompanied by an adult. \n
URL:http://www.tipperarylibraries.ie/event/nenagh-christmas-pyjama-night/
CATEGORIES:Events,Kids Events,Nenagh Events
ATTACH;FMTTYPE=image/jpeg:http://www.tipperarylibraries.ie/wp-content/uploads/2014/11/xmas-storytime-poster.jpg
END:VEVENT
END:VCALENDAR