BEGIN:VCALENDAR
VERSION:2.0
PRODID:-//Tipperary Library Service - ECPv4.6.1//NONSGML v1.0//EN
CALSCALE:GREGORIAN
METHOD:PUBLISH
X-WR-CALNAME:Tipperary Library Service
X-ORIGINAL-URL:http://www.tipperarylibraries.ie
X-WR-CALDESC:Events for Tipperary Library Service
BEGIN:VEVENT
DTSTART;TZID=UTC+0:20171005T111500
DTEND;TZID=UTC+0:20171005T120000
DTSTAMP:20171029T102407
CREATED:20150414T191311Z
LAST-MODIFIED:20150414T191311Z
UID:37095-1507202100-1507204800@www.tipperarylibraries.ie
SUMMARY:Nenagh: Weekly Storytime
DESCRIPTION:Storytime for under 5s takes place at Nenagh Library every Thursday at 11.15 am\, followed by colouring. Bring along your little ones and introduce them to the magical world of books and imagination. \n
URL:http://www.tipperarylibraries.ie/event/nenagh-weekly-storytime/2017-10-05/
ATTACH;FMTTYPE=image/jpeg:http://www.tipperarylibraries.ie/wp-content/uploads/2015/04/storytime-photo.jpg
END:VEVENT
END:VCALENDAR