BEGIN:VCALENDAR
VERSION:2.0
PRODID:-//Tipperary Library Service - ECPv4.6.1//NONSGML v1.0//EN
CALSCALE:GREGORIAN
METHOD:PUBLISH
X-WR-CALNAME:Tipperary Library Service
X-ORIGINAL-URL:http://www.tipperarylibraries.ie
X-WR-CALDESC:Events for Tipperary Library Service
BEGIN:VEVENT
DTSTART;TZID=UTC+0:20141112T140000
DTEND;TZID=UTC+0:20141112T200000
DTSTAMP:20171108T134055
CREATED:20141104T115223Z
LAST-MODIFIED:20141104T115223Z
UID:22335-1415800800-1415822400@www.tipperarylibraries.ie
SUMMARY:Public Consultation Day in Roscrea Library: Draft Flood Maps
DESCRIPTION:Are you at risk of flooding? \nJacobs engineering Ireland Limited wish to invite you to ourÂ public consultation day to view and comment on our draft floodÂ maps for Roscrea.\nThe maps are part of the Shannon CFRAM Study that willÂ assess flood risk across the Shannon catchment area and\ndevelop Flood Risk Management Plans for those areas most atÂ risk of flooding.\nWe would like your views and experiences of flooding and anyÂ comments you may have on the draft maps.\nThe draft flood mapsÂ will be on display on the day and will also be accessible through\nour website: www.shannoncframstudy.ie \nWe look forward to meeting you there! \n  \nWednesday 12th November 2014 \n2pm &#8211; 5pm and 6pm &#8211; 8pm\nRoscrea Library\,\nBirr Road\,\nRoscrea\,\nCo. Tipperary \n \n
URL:http://www.tipperarylibraries.ie/event/public-consultation-day-in-roscrea-library-draft-flood-maps/
CATEGORIES:Roscrea Events
ATTACH;FMTTYPE=image/png:http://www.tipperarylibraries.ie/wp-content/uploads/2014/11/The-Office-of-Public-Works-OPW.png
END:VEVENT
END:VCALENDAR