BEGIN:VCALENDAR
VERSION:2.0
PRODID:-//Tipperary Library Service - ECPv4.6.1//NONSGML v1.0//EN
CALSCALE:GREGORIAN
METHOD:PUBLISH
X-WR-CALNAME:Tipperary Library Service
X-ORIGINAL-URL:http://www.tipperarylibraries.ie
X-WR-CALDESC:Events for Tipperary Library Service
BEGIN:VEVENT
DTSTART;TZID=UTC+0:20170123T100000
DTEND;TZID=UTC+0:20170123T170000
DTSTAMP:20171108T190022
CREATED:20170110T154728Z
LAST-MODIFIED:20170110T154728Z
UID:35483-1485165600-1485190800@www.tipperarylibraries.ie
SUMMARY:Roscrea Library Art Group Exhibition extended until the end of January
DESCRIPTION:There is still time to view the gorgeous exhibition by the Roscrea Library Art group\, it will be on display until the end of January. \n
URL:http://www.tipperarylibraries.ie/event/roscrea-library-art-group-exhibition-extended-until-the-end-of-january/2017-01-23/
CATEGORIES:Roscrea Events
ATTACH;FMTTYPE=image/jpeg:http://www.tipperarylibraries.ie/wp-content/uploads/2016/12/RSex2.jpg
END:VEVENT
END:VCALENDAR