BEGIN:VCALENDAR
VERSION:2.0
PRODID:-//Tipperary Library Service - ECPv4.6.1//NONSGML v1.0//EN
CALSCALE:GREGORIAN
METHOD:PUBLISH
X-WR-CALNAME:Tipperary Library Service
X-ORIGINAL-URL:http://www.tipperarylibraries.ie
X-WR-CALDESC:Events for Tipperary Library Service
BEGIN:VEVENT
DTSTART;VALUE=DATE:20170203
DTEND;VALUE=DATE:20170204
DTSTAMP:20171108T185818
CREATED:20170202T104543Z
LAST-MODIFIED:20170202T104543Z
UID:35737-1486080000-1486166399@www.tipperarylibraries.ie
SUMMARY:Thurles; "For These Days" Exhibiting the works of Alan Bourke
DESCRIPTION:
URL:http://www.tipperarylibraries.ie/event/thurles-for-these-days-exhibiting-the-works-of-alan-bourke/2017-02-03/
LOCATION:Thurles
GEO:52.6801064;-7.8044421
X-APPLE-STRUCTURED-LOCATION;VALUE=URI;X-ADDRESS=Thurles;X-APPLE-RADIUS=500;X-TITLE=Thurles:geo:-7.8044421,52.6801064
CATEGORIES:Exhibitions,Thurles Events
ATTACH;FMTTYPE=image/jpeg:http://www.tipperarylibraries.ie/wp-content/uploads/2017/02/water-charges.jpg
END:VEVENT
END:VCALENDAR