BEGIN:VCALENDAR
VERSION:2.0
PRODID:-//Tipperary Library Service - ECPv4.6.1//NONSGML v1.0//EN
CALSCALE:GREGORIAN
METHOD:PUBLISH
X-WR-CALNAME:Tipperary Library Service
X-ORIGINAL-URL:http://www.tipperarylibraries.ie
X-WR-CALDESC:Events for Tipperary Library Service
BEGIN:VEVENT
DTSTART;TZID=UTC+0:20141216T180000
DTEND;TZID=UTC+0:20141216T190000
DTSTAMP:20171108T133612
CREATED:20141203T121817Z
LAST-MODIFIED:20141203T121817Z
UID:23257-1418752800-1418756400@www.tipperarylibraries.ie
SUMMARY:Thurles Library Christmas Pyjama Storytime
DESCRIPTION:
URL:http://www.tipperarylibraries.ie/event/thurles-library-christmas-pyjama-storytime/
CATEGORIES:Kids Events,Thurles Events
END:VEVENT
END:VCALENDAR