BEGIN:VCALENDAR
VERSION:2.0
PRODID:-//Tipperary Library Service - ECPv4.6.1//NONSGML v1.0//EN
CALSCALE:GREGORIAN
METHOD:PUBLISH
X-WR-CALNAME:Tipperary Library Service
X-ORIGINAL-URL:http://www.tipperarylibraries.ie
X-WR-CALDESC:Events for Tipperary Library Service
BEGIN:VEVENT
DTSTART;VALUE=DATE:20141106
DTEND;VALUE=DATE:20141107
DTSTAMP:20171108T133903
CREATED:20141111T145725Z
LAST-MODIFIED:20141111T145725Z
UID:22525-1415232000-1415318399@www.tipperarylibraries.ie
SUMMARY:Thurles library exhibition; From the Edge
DESCRIPTION:An exhibition of work by Frank Rafter. \nHere is the edge—between gloom and glamour; between external and internal—an edge which divides one world from another. This is how we live: in various worlds which overlap but do not actually touch. \n \n
URL:http://www.tipperarylibraries.ie/event/thurles-library-exhibition-from-the-edge/2014-11-06/
CATEGORIES:Exhibitions,Thurles Events
END:VEVENT
END:VCALENDAR