BEGIN:VCALENDAR
VERSION:2.0
PRODID:-//Tipperary Library Service - ECPv4.6.1//NONSGML v1.0//EN
CALSCALE:GREGORIAN
METHOD:PUBLISH
X-WR-CALNAME:Tipperary Library Service
X-ORIGINAL-URL:http://www.tipperarylibraries.ie
X-WR-CALDESC:Events for Tipperary Library Service
BEGIN:VEVENT
DTSTART;TZID=UTC+0:20150204T093000
DTEND;TZID=UTC+0:20150204T113000
DTSTAMP:20171108T133047
CREATED:20150128T135807Z
LAST-MODIFIED:20150128T135807Z
UID:24886-1423042200-1423049400@www.tipperarylibraries.ie
SUMMARY:Thurles: Parent and Toddler Group
DESCRIPTION:Thurles Parent Baby and Toddler Group (for under 5&#8217;s):\nAn informal gathering for parents/carers to meet\, chat and have a coffee at The Source  while the children play and interact with other in a safe environment. Every Wednesday  (excluding mid-term) \nThis group meet in the Community Space from 9.30 to 11.30 a.m. There is a charge of €3.50 per family. \nThis is presented by the Source Arts Centre. \n
URL:http://www.tipperarylibraries.ie/event/thurles-parent-and-toddler-group/2015-02-04/
LOCATION:Thurles
GEO:52.6801064;-7.8044421
X-APPLE-STRUCTURED-LOCATION;VALUE=URI;X-ADDRESS=Thurles;X-APPLE-RADIUS=500;X-TITLE=Thurles:geo:-7.8044421,52.6801064
CATEGORIES:Thurles Events
ATTACH;FMTTYPE=image/jpeg:http://www.tipperarylibraries.ie/wp-content/uploads/2015/01/parent_and_toddler_image-460x262.jpg
END:VEVENT
END:VCALENDAR