BEGIN:VCALENDAR
VERSION:2.0
PRODID:-//Tipperary Library Service - ECPv4.6.1//NONSGML v1.0//EN
CALSCALE:GREGORIAN
METHOD:PUBLISH
X-WR-CALNAME:Tipperary Library Service
X-ORIGINAL-URL:http://www.tipperarylibraries.ie
X-WR-CALDESC:Events for Tipperary Library Service
BEGIN:VEVENT
DTSTART;TZID=UTC+0:20150208T140000
DTEND;TZID=UTC+0:20150208T180000
DTSTAMP:20171108T133218
CREATED:20150128T171230Z
LAST-MODIFIED:20150128T171230Z
UID:24997-1423404000-1423418400@www.tipperarylibraries.ie
SUMMARY:Tipperariana 2015 Book Fair: 8 Feb.
DESCRIPTION: \n
URL:http://www.tipperarylibraries.ie/event/tipperariana-2015-book-fair-8-feb/
CATEGORIES:Fethard Events,Tipperary Studies
END:VEVENT
END:VCALENDAR