BEGIN:VCALENDAR
VERSION:2.0
PRODID:-//Tipperary County Council Library Service - ECPv6.15.20//NONSGML v1.0//EN
CALSCALE:GREGORIAN
METHOD:PUBLISH
X-WR-CALNAME:Tipperary County Council Library Service
X-ORIGINAL-URL:https://www.tipperarylibraries.ie
X-WR-CALDESC:Events for Tipperary County Council Library Service
REFRESH-INTERVAL;VALUE=DURATION:PT1H
X-Robots-Tag:noindex
X-PUBLISHED-TTL:PT1H
BEGIN:VTIMEZONE
TZID:Europe/London
BEGIN:DAYLIGHT
TZOFFSETFROM:+0000
TZOFFSETTO:+0100
TZNAME:BST
DTSTART:20250330T010000
END:DAYLIGHT
BEGIN:STANDARD
TZOFFSETFROM:+0100
TZOFFSETTO:+0000
TZNAME:GMT
DTSTART:20251026T010000
END:STANDARD
BEGIN:DAYLIGHT
TZOFFSETFROM:+0000
TZOFFSETTO:+0100
TZNAME:BST
DTSTART:20260329T010000
END:DAYLIGHT
BEGIN:STANDARD
TZOFFSETFROM:+0100
TZOFFSETTO:+0000
TZNAME:GMT
DTSTART:20261025T010000
END:STANDARD
BEGIN:DAYLIGHT
TZOFFSETFROM:+0000
TZOFFSETTO:+0100
TZNAME:BST
DTSTART:20270328T010000
END:DAYLIGHT
BEGIN:STANDARD
TZOFFSETFROM:+0100
TZOFFSETTO:+0000
TZNAME:GMT
DTSTART:20271031T010000
END:STANDARD
END:VTIMEZONE
BEGIN:VEVENT
DTSTART;TZID=Europe/London:20260427T110000
DTEND;TZID=Europe/London:20260427T130000
DTSTAMP:20260425T050016
CREATED:20260107T102640Z
LAST-MODIFIED:20260107T102640Z
UID:89887-1777287600-1777294800@www.tipperarylibraries.ie
SUMMARY:Nenagh Library Craft Circle
DESCRIPTION:Nenagh Library Crafting Club\n\n\nJoin us on the 2nd & 4th Monday of the month @ 11am to 1.00pm for knitting\, sewing\, embroidery & patchwork etc.\n\n\nAll are welcome. \n\n\nShare a Stitch\, Enjoy a chat over a cuppa! \nFor more information\, please contact Carmel Fitzsimons on (086) 8179519 or Margaret Spellman  on (086) 3834083
URL:https://www.tipperarylibraries.ie/event/nenagh-library-craft-circle/2026-04-27/
LOCATION:Nenagh Library\, E45 AK50
CATEGORIES:Age Friendly,Nenagh Events
ATTACH;FMTTYPE=application/pdf:https://www.tipperarylibraries.ie/wp-content/uploads/2026/01/Nenagh-Library-Crafting-Club-A4.pdf
END:VEVENT
BEGIN:VEVENT
DTSTART;TZID=Europe/London:20260511T110000
DTEND;TZID=Europe/London:20260511T130000
DTSTAMP:20260425T050016
CREATED:20260107T102640Z
LAST-MODIFIED:20260107T102640Z
UID:89888-1778497200-1778504400@www.tipperarylibraries.ie
SUMMARY:Nenagh Library Craft Circle
DESCRIPTION:Nenagh Library Crafting Club\n\n\nJoin us on the 2nd & 4th Monday of the month @ 11am to 1.00pm for knitting\, sewing\, embroidery & patchwork etc.\n\n\nAll are welcome. \n\n\nShare a Stitch\, Enjoy a chat over a cuppa! \nFor more information\, please contact Carmel Fitzsimons on (086) 8179519 or Margaret Spellman  on (086) 3834083
URL:https://www.tipperarylibraries.ie/event/nenagh-library-craft-circle/2026-05-11/
LOCATION:Nenagh Library\, E45 AK50
CATEGORIES:Age Friendly,Nenagh Events
ATTACH;FMTTYPE=application/pdf:https://www.tipperarylibraries.ie/wp-content/uploads/2026/01/Nenagh-Library-Crafting-Club-A4.pdf
END:VEVENT
BEGIN:VEVENT
DTSTART;TZID=Europe/London:20260525T110000
DTEND;TZID=Europe/London:20260525T130000
DTSTAMP:20260425T050016
CREATED:20260107T102640Z
LAST-MODIFIED:20260107T102640Z
UID:89889-1779706800-1779714000@www.tipperarylibraries.ie
SUMMARY:Nenagh Library Craft Circle
DESCRIPTION:Nenagh Library Crafting Club\n\n\nJoin us on the 2nd & 4th Monday of the month @ 11am to 1.00pm for knitting\, sewing\, embroidery & patchwork etc.\n\n\nAll are welcome. \n\n\nShare a Stitch\, Enjoy a chat over a cuppa! \nFor more information\, please contact Carmel Fitzsimons on (086) 8179519 or Margaret Spellman  on (086) 3834083
URL:https://www.tipperarylibraries.ie/event/nenagh-library-craft-circle/2026-05-25/
LOCATION:Nenagh Library\, E45 AK50
CATEGORIES:Age Friendly,Nenagh Events
ATTACH;FMTTYPE=application/pdf:https://www.tipperarylibraries.ie/wp-content/uploads/2026/01/Nenagh-Library-Crafting-Club-A4.pdf
END:VEVENT
BEGIN:VEVENT
DTSTART;TZID=Europe/London:20260608T110000
DTEND;TZID=Europe/London:20260608T130000
DTSTAMP:20260425T050016
CREATED:20260107T102640Z
LAST-MODIFIED:20260107T102640Z
UID:89890-1780916400-1780923600@www.tipperarylibraries.ie
SUMMARY:Nenagh Library Craft Circle
DESCRIPTION:Nenagh Library Crafting Club\n\n\nJoin us on the 2nd & 4th Monday of the month @ 11am to 1.00pm for knitting\, sewing\, embroidery & patchwork etc.\n\n\nAll are welcome. \n\n\nShare a Stitch\, Enjoy a chat over a cuppa! \nFor more information\, please contact Carmel Fitzsimons on (086) 8179519 or Margaret Spellman  on (086) 3834083
URL:https://www.tipperarylibraries.ie/event/nenagh-library-craft-circle/2026-06-08/
LOCATION:Nenagh Library\, E45 AK50
CATEGORIES:Age Friendly,Nenagh Events
ATTACH;FMTTYPE=application/pdf:https://www.tipperarylibraries.ie/wp-content/uploads/2026/01/Nenagh-Library-Crafting-Club-A4.pdf
END:VEVENT
BEGIN:VEVENT
DTSTART;TZID=Europe/London:20260622T110000
DTEND;TZID=Europe/London:20260622T130000
DTSTAMP:20260425T050016
CREATED:20260107T102640Z
LAST-MODIFIED:20260107T102640Z
UID:89891-1782126000-1782133200@www.tipperarylibraries.ie
SUMMARY:Nenagh Library Craft Circle
DESCRIPTION:Nenagh Library Crafting Club\n\n\nJoin us on the 2nd & 4th Monday of the month @ 11am to 1.00pm for knitting\, sewing\, embroidery & patchwork etc.\n\n\nAll are welcome. \n\n\nShare a Stitch\, Enjoy a chat over a cuppa! \nFor more information\, please contact Carmel Fitzsimons on (086) 8179519 or Margaret Spellman  on (086) 3834083
URL:https://www.tipperarylibraries.ie/event/nenagh-library-craft-circle/2026-06-22/
LOCATION:Nenagh Library\, E45 AK50
CATEGORIES:Age Friendly,Nenagh Events
ATTACH;FMTTYPE=application/pdf:https://www.tipperarylibraries.ie/wp-content/uploads/2026/01/Nenagh-Library-Crafting-Club-A4.pdf
END:VEVENT
BEGIN:VEVENT
DTSTART;TZID=Europe/London:20260713T110000
DTEND;TZID=Europe/London:20260713T130000
DTSTAMP:20260425T050016
CREATED:20260107T102640Z
LAST-MODIFIED:20260107T102640Z
UID:89892-1783940400-1783947600@www.tipperarylibraries.ie
SUMMARY:Nenagh Library Craft Circle
DESCRIPTION:Nenagh Library Crafting Club\n\n\nJoin us on the 2nd & 4th Monday of the month @ 11am to 1.00pm for knitting\, sewing\, embroidery & patchwork etc.\n\n\nAll are welcome. \n\n\nShare a Stitch\, Enjoy a chat over a cuppa! \nFor more information\, please contact Carmel Fitzsimons on (086) 8179519 or Margaret Spellman  on (086) 3834083
URL:https://www.tipperarylibraries.ie/event/nenagh-library-craft-circle/2026-07-13/
LOCATION:Nenagh Library\, E45 AK50
CATEGORIES:Age Friendly,Nenagh Events
ATTACH;FMTTYPE=application/pdf:https://www.tipperarylibraries.ie/wp-content/uploads/2026/01/Nenagh-Library-Crafting-Club-A4.pdf
END:VEVENT
BEGIN:VEVENT
DTSTART;TZID=Europe/London:20260727T110000
DTEND;TZID=Europe/London:20260727T130000
DTSTAMP:20260425T050016
CREATED:20260107T102640Z
LAST-MODIFIED:20260107T102640Z
UID:89893-1785150000-1785157200@www.tipperarylibraries.ie
SUMMARY:Nenagh Library Craft Circle
DESCRIPTION:Nenagh Library Crafting Club\n\n\nJoin us on the 2nd & 4th Monday of the month @ 11am to 1.00pm for knitting\, sewing\, embroidery & patchwork etc.\n\n\nAll are welcome. \n\n\nShare a Stitch\, Enjoy a chat over a cuppa! \nFor more information\, please contact Carmel Fitzsimons on (086) 8179519 or Margaret Spellman  on (086) 3834083
URL:https://www.tipperarylibraries.ie/event/nenagh-library-craft-circle/2026-07-27/
LOCATION:Nenagh Library\, E45 AK50
CATEGORIES:Age Friendly,Nenagh Events
ATTACH;FMTTYPE=application/pdf:https://www.tipperarylibraries.ie/wp-content/uploads/2026/01/Nenagh-Library-Crafting-Club-A4.pdf
END:VEVENT
BEGIN:VEVENT
DTSTART;TZID=Europe/London:20260810T110000
DTEND;TZID=Europe/London:20260810T130000
DTSTAMP:20260425T050016
CREATED:20260107T102640Z
LAST-MODIFIED:20260107T102640Z
UID:89894-1786359600-1786366800@www.tipperarylibraries.ie
SUMMARY:Nenagh Library Craft Circle
DESCRIPTION:Nenagh Library Crafting Club\n\n\nJoin us on the 2nd & 4th Monday of the month @ 11am to 1.00pm for knitting\, sewing\, embroidery & patchwork etc.\n\n\nAll are welcome. \n\n\nShare a Stitch\, Enjoy a chat over a cuppa! \nFor more information\, please contact Carmel Fitzsimons on (086) 8179519 or Margaret Spellman  on (086) 3834083
URL:https://www.tipperarylibraries.ie/event/nenagh-library-craft-circle/2026-08-10/
LOCATION:Nenagh Library\, E45 AK50
CATEGORIES:Age Friendly,Nenagh Events
ATTACH;FMTTYPE=application/pdf:https://www.tipperarylibraries.ie/wp-content/uploads/2026/01/Nenagh-Library-Crafting-Club-A4.pdf
END:VEVENT
BEGIN:VEVENT
DTSTART;TZID=Europe/London:20260824T110000
DTEND;TZID=Europe/London:20260824T130000
DTSTAMP:20260425T050016
CREATED:20260107T102640Z
LAST-MODIFIED:20260107T102640Z
UID:89895-1787569200-1787576400@www.tipperarylibraries.ie
SUMMARY:Nenagh Library Craft Circle
DESCRIPTION:Nenagh Library Crafting Club\n\n\nJoin us on the 2nd & 4th Monday of the month @ 11am to 1.00pm for knitting\, sewing\, embroidery & patchwork etc.\n\n\nAll are welcome. \n\n\nShare a Stitch\, Enjoy a chat over a cuppa! \nFor more information\, please contact Carmel Fitzsimons on (086) 8179519 or Margaret Spellman  on (086) 3834083
URL:https://www.tipperarylibraries.ie/event/nenagh-library-craft-circle/2026-08-24/
LOCATION:Nenagh Library\, E45 AK50
CATEGORIES:Age Friendly,Nenagh Events
ATTACH;FMTTYPE=application/pdf:https://www.tipperarylibraries.ie/wp-content/uploads/2026/01/Nenagh-Library-Crafting-Club-A4.pdf
END:VEVENT
BEGIN:VEVENT
DTSTART;TZID=Europe/London:20260914T110000
DTEND;TZID=Europe/London:20260914T130000
DTSTAMP:20260425T050016
CREATED:20260107T102640Z
LAST-MODIFIED:20260107T102640Z
UID:89896-1789383600-1789390800@www.tipperarylibraries.ie
SUMMARY:Nenagh Library Craft Circle
DESCRIPTION:Nenagh Library Crafting Club\n\n\nJoin us on the 2nd & 4th Monday of the month @ 11am to 1.00pm for knitting\, sewing\, embroidery & patchwork etc.\n\n\nAll are welcome. \n\n\nShare a Stitch\, Enjoy a chat over a cuppa! \nFor more information\, please contact Carmel Fitzsimons on (086) 8179519 or Margaret Spellman  on (086) 3834083
URL:https://www.tipperarylibraries.ie/event/nenagh-library-craft-circle/2026-09-14/
LOCATION:Nenagh Library\, E45 AK50
CATEGORIES:Age Friendly,Nenagh Events
ATTACH;FMTTYPE=application/pdf:https://www.tipperarylibraries.ie/wp-content/uploads/2026/01/Nenagh-Library-Crafting-Club-A4.pdf
END:VEVENT
BEGIN:VEVENT
DTSTART;TZID=Europe/London:20260928T110000
DTEND;TZID=Europe/London:20260928T130000
DTSTAMP:20260425T050016
CREATED:20260107T102640Z
LAST-MODIFIED:20260107T102640Z
UID:89897-1790593200-1790600400@www.tipperarylibraries.ie
SUMMARY:Nenagh Library Craft Circle
DESCRIPTION:Nenagh Library Crafting Club\n\n\nJoin us on the 2nd & 4th Monday of the month @ 11am to 1.00pm for knitting\, sewing\, embroidery & patchwork etc.\n\n\nAll are welcome. \n\n\nShare a Stitch\, Enjoy a chat over a cuppa! \nFor more information\, please contact Carmel Fitzsimons on (086) 8179519 or Margaret Spellman  on (086) 3834083
URL:https://www.tipperarylibraries.ie/event/nenagh-library-craft-circle/2026-09-28/
LOCATION:Nenagh Library\, E45 AK50
CATEGORIES:Age Friendly,Nenagh Events
ATTACH;FMTTYPE=application/pdf:https://www.tipperarylibraries.ie/wp-content/uploads/2026/01/Nenagh-Library-Crafting-Club-A4.pdf
END:VEVENT
BEGIN:VEVENT
DTSTART;TZID=Europe/London:20261012T110000
DTEND;TZID=Europe/London:20261012T130000
DTSTAMP:20260425T050016
CREATED:20260107T102640Z
LAST-MODIFIED:20260107T102640Z
UID:89898-1791802800-1791810000@www.tipperarylibraries.ie
SUMMARY:Nenagh Library Craft Circle
DESCRIPTION:Nenagh Library Crafting Club\n\n\nJoin us on the 2nd & 4th Monday of the month @ 11am to 1.00pm for knitting\, sewing\, embroidery & patchwork etc.\n\n\nAll are welcome. \n\n\nShare a Stitch\, Enjoy a chat over a cuppa! \nFor more information\, please contact Carmel Fitzsimons on (086) 8179519 or Margaret Spellman  on (086) 3834083
URL:https://www.tipperarylibraries.ie/event/nenagh-library-craft-circle/2026-10-12/
LOCATION:Nenagh Library\, E45 AK50
CATEGORIES:Age Friendly,Nenagh Events
ATTACH;FMTTYPE=application/pdf:https://www.tipperarylibraries.ie/wp-content/uploads/2026/01/Nenagh-Library-Crafting-Club-A4.pdf
END:VEVENT
BEGIN:VEVENT
DTSTART;TZID=Europe/London:20261026T110000
DTEND;TZID=Europe/London:20261026T130000
DTSTAMP:20260425T050016
CREATED:20260107T102640Z
LAST-MODIFIED:20260107T102640Z
UID:89899-1793012400-1793019600@www.tipperarylibraries.ie
SUMMARY:Nenagh Library Craft Circle
DESCRIPTION:Nenagh Library Crafting Club\n\n\nJoin us on the 2nd & 4th Monday of the month @ 11am to 1.00pm for knitting\, sewing\, embroidery & patchwork etc.\n\n\nAll are welcome. \n\n\nShare a Stitch\, Enjoy a chat over a cuppa! \nFor more information\, please contact Carmel Fitzsimons on (086) 8179519 or Margaret Spellman  on (086) 3834083
URL:https://www.tipperarylibraries.ie/event/nenagh-library-craft-circle/2026-10-26/
LOCATION:Nenagh Library\, E45 AK50
CATEGORIES:Age Friendly,Nenagh Events
ATTACH;FMTTYPE=application/pdf:https://www.tipperarylibraries.ie/wp-content/uploads/2026/01/Nenagh-Library-Crafting-Club-A4.pdf
END:VEVENT
BEGIN:VEVENT
DTSTART;TZID=Europe/London:20261109T110000
DTEND;TZID=Europe/London:20261109T130000
DTSTAMP:20260425T050016
CREATED:20260107T102640Z
LAST-MODIFIED:20260107T102640Z
UID:89900-1794222000-1794229200@www.tipperarylibraries.ie
SUMMARY:Nenagh Library Craft Circle
DESCRIPTION:Nenagh Library Crafting Club\n\n\nJoin us on the 2nd & 4th Monday of the month @ 11am to 1.00pm for knitting\, sewing\, embroidery & patchwork etc.\n\n\nAll are welcome. \n\n\nShare a Stitch\, Enjoy a chat over a cuppa! \nFor more information\, please contact Carmel Fitzsimons on (086) 8179519 or Margaret Spellman  on (086) 3834083
URL:https://www.tipperarylibraries.ie/event/nenagh-library-craft-circle/2026-11-09/
LOCATION:Nenagh Library\, E45 AK50
CATEGORIES:Age Friendly,Nenagh Events
ATTACH;FMTTYPE=application/pdf:https://www.tipperarylibraries.ie/wp-content/uploads/2026/01/Nenagh-Library-Crafting-Club-A4.pdf
END:VEVENT
BEGIN:VEVENT
DTSTART;TZID=Europe/London:20261123T110000
DTEND;TZID=Europe/London:20261123T130000
DTSTAMP:20260425T050016
CREATED:20260107T102640Z
LAST-MODIFIED:20260107T102640Z
UID:89901-1795431600-1795438800@www.tipperarylibraries.ie
SUMMARY:Nenagh Library Craft Circle
DESCRIPTION:Nenagh Library Crafting Club\n\n\nJoin us on the 2nd & 4th Monday of the month @ 11am to 1.00pm for knitting\, sewing\, embroidery & patchwork etc.\n\n\nAll are welcome. \n\n\nShare a Stitch\, Enjoy a chat over a cuppa! \nFor more information\, please contact Carmel Fitzsimons on (086) 8179519 or Margaret Spellman  on (086) 3834083
URL:https://www.tipperarylibraries.ie/event/nenagh-library-craft-circle/2026-11-23/
LOCATION:Nenagh Library\, E45 AK50
CATEGORIES:Age Friendly,Nenagh Events
ATTACH;FMTTYPE=application/pdf:https://www.tipperarylibraries.ie/wp-content/uploads/2026/01/Nenagh-Library-Crafting-Club-A4.pdf
END:VEVENT
BEGIN:VEVENT
DTSTART;TZID=Europe/London:20261214T110000
DTEND;TZID=Europe/London:20261214T130000
DTSTAMP:20260425T050016
CREATED:20260107T102640Z
LAST-MODIFIED:20260107T102640Z
UID:89902-1797246000-1797253200@www.tipperarylibraries.ie
SUMMARY:Nenagh Library Craft Circle
DESCRIPTION:Nenagh Library Crafting Club\n\n\nJoin us on the 2nd & 4th Monday of the month @ 11am to 1.00pm for knitting\, sewing\, embroidery & patchwork etc.\n\n\nAll are welcome. \n\n\nShare a Stitch\, Enjoy a chat over a cuppa! \nFor more information\, please contact Carmel Fitzsimons on (086) 8179519 or Margaret Spellman  on (086) 3834083
URL:https://www.tipperarylibraries.ie/event/nenagh-library-craft-circle/2026-12-14/
LOCATION:Nenagh Library\, E45 AK50
CATEGORIES:Age Friendly,Nenagh Events
ATTACH;FMTTYPE=application/pdf:https://www.tipperarylibraries.ie/wp-content/uploads/2026/01/Nenagh-Library-Crafting-Club-A4.pdf
END:VEVENT
BEGIN:VEVENT
DTSTART;TZID=Europe/London:20261228T110000
DTEND;TZID=Europe/London:20261228T130000
DTSTAMP:20260425T050016
CREATED:20260107T102640Z
LAST-MODIFIED:20260107T102640Z
UID:89903-1798455600-1798462800@www.tipperarylibraries.ie
SUMMARY:Nenagh Library Craft Circle
DESCRIPTION:Nenagh Library Crafting Club\n\n\nJoin us on the 2nd & 4th Monday of the month @ 11am to 1.00pm for knitting\, sewing\, embroidery & patchwork etc.\n\n\nAll are welcome. \n\n\nShare a Stitch\, Enjoy a chat over a cuppa! \nFor more information\, please contact Carmel Fitzsimons on (086) 8179519 or Margaret Spellman  on (086) 3834083
URL:https://www.tipperarylibraries.ie/event/nenagh-library-craft-circle/2026-12-28/
LOCATION:Nenagh Library\, E45 AK50
CATEGORIES:Age Friendly,Nenagh Events
ATTACH;FMTTYPE=application/pdf:https://www.tipperarylibraries.ie/wp-content/uploads/2026/01/Nenagh-Library-Crafting-Club-A4.pdf
END:VEVENT
END:VCALENDAR