BEGIN:VCALENDAR
VERSION:2.0
PRODID:-//Tipperary County Council Library Service - ECPv6.15.20//NONSGML v1.0//EN
CALSCALE:GREGORIAN
METHOD:PUBLISH
X-ORIGINAL-URL:https://www.tipperarylibraries.ie
X-WR-CALDESC:Events for Tipperary County Council Library Service
REFRESH-INTERVAL;VALUE=DURATION:PT1H
X-Robots-Tag:noindex
X-PUBLISHED-TTL:PT1H
BEGIN:VTIMEZONE
TZID:Europe/London
BEGIN:DAYLIGHT
TZOFFSETFROM:+0000
TZOFFSETTO:+0100
TZNAME:BST
DTSTART:20250330T010000
END:DAYLIGHT
BEGIN:STANDARD
TZOFFSETFROM:+0100
TZOFFSETTO:+0000
TZNAME:GMT
DTSTART:20251026T010000
END:STANDARD
BEGIN:DAYLIGHT
TZOFFSETFROM:+0000
TZOFFSETTO:+0100
TZNAME:BST
DTSTART:20260329T010000
END:DAYLIGHT
BEGIN:STANDARD
TZOFFSETFROM:+0100
TZOFFSETTO:+0000
TZNAME:GMT
DTSTART:20261025T010000
END:STANDARD
BEGIN:DAYLIGHT
TZOFFSETFROM:+0000
TZOFFSETTO:+0100
TZNAME:BST
DTSTART:20270328T010000
END:DAYLIGHT
BEGIN:STANDARD
TZOFFSETFROM:+0100
TZOFFSETTO:+0000
TZNAME:GMT
DTSTART:20271031T010000
END:STANDARD
END:VTIMEZONE
BEGIN:VEVENT
DTSTART;TZID=Europe/London:20260421T103000
DTEND;TZID=Europe/London:20260421T123000
DTSTAMP:20260425T050308
CREATED:20260219T195122Z
LAST-MODIFIED:20260219T195122Z
UID:90725-1776767400-1776774600@www.tipperarylibraries.ie
SUMMARY:Templemore Library Craft Group
DESCRIPTION:Templemore Library Craft Group meet Tuesdays from 10.30am – 12.30pm. \nBring along you craft project and enjoy chats and advice of fellow crafters. \nNew crafters welcome.
URL:https://www.tipperarylibraries.ie/event/templemore-library-craft-group-14/2026-04-21/
LOCATION:Templemore Library\, Templemore Library and Enterprise Centre Main Street\, Templemore\, Co. Tipperary.\, E41 W7W3
CATEGORIES:Events,Templemore Events
ATTACH;FMTTYPE=application/pdf:https://www.tipperarylibraries.ie/wp-content/uploads/2026/02/Craft-Group.pdf
ORGANIZER;CN="Templemore Library":MAILTO:templemorelibrary@tipperarycoco.ie
END:VEVENT
BEGIN:VEVENT
DTSTART;TZID=Europe/London:20260414T103000
DTEND;TZID=Europe/London:20260414T123000
DTSTAMP:20260425T050308
CREATED:20260219T195122Z
LAST-MODIFIED:20260219T195122Z
UID:90724-1776162600-1776169800@www.tipperarylibraries.ie
SUMMARY:Templemore Library Craft Group
DESCRIPTION:Templemore Library Craft Group meet Tuesdays from 10.30am – 12.30pm. \nBring along you craft project and enjoy chats and advice of fellow crafters. \nNew crafters welcome.
URL:https://www.tipperarylibraries.ie/event/templemore-library-craft-group-14/2026-04-14/
LOCATION:Templemore Library\, Templemore Library and Enterprise Centre Main Street\, Templemore\, Co. Tipperary.\, E41 W7W3
CATEGORIES:Events,Templemore Events
ATTACH;FMTTYPE=application/pdf:https://www.tipperarylibraries.ie/wp-content/uploads/2026/02/Craft-Group.pdf
ORGANIZER;CN="Templemore Library":MAILTO:templemorelibrary@tipperarycoco.ie
END:VEVENT
BEGIN:VEVENT
DTSTART;TZID=Europe/London:20260407T103000
DTEND;TZID=Europe/London:20260407T123000
DTSTAMP:20260425T050308
CREATED:20260219T195122Z
LAST-MODIFIED:20260219T195122Z
UID:90723-1775557800-1775565000@www.tipperarylibraries.ie
SUMMARY:Templemore Library Craft Group
DESCRIPTION:Templemore Library Craft Group meet Tuesdays from 10.30am – 12.30pm. \nBring along you craft project and enjoy chats and advice of fellow crafters. \nNew crafters welcome.
URL:https://www.tipperarylibraries.ie/event/templemore-library-craft-group-14/2026-04-07/
LOCATION:Templemore Library\, Templemore Library and Enterprise Centre Main Street\, Templemore\, Co. Tipperary.\, E41 W7W3
CATEGORIES:Events,Templemore Events
ATTACH;FMTTYPE=application/pdf:https://www.tipperarylibraries.ie/wp-content/uploads/2026/02/Craft-Group.pdf
ORGANIZER;CN="Templemore Library":MAILTO:templemorelibrary@tipperarycoco.ie
END:VEVENT
BEGIN:VEVENT
DTSTART;TZID=Europe/London:20260331T103000
DTEND;TZID=Europe/London:20260331T123000
DTSTAMP:20260425T050308
CREATED:20260219T195122Z
LAST-MODIFIED:20260219T195122Z
UID:90722-1774953000-1774960200@www.tipperarylibraries.ie
SUMMARY:Templemore Library Craft Group
DESCRIPTION:Templemore Library Craft Group meet Tuesdays from 10.30am – 12.30pm. \nBring along you craft project and enjoy chats and advice of fellow crafters. \nNew crafters welcome.
URL:https://www.tipperarylibraries.ie/event/templemore-library-craft-group-14/2026-03-31/
LOCATION:Templemore Library\, Templemore Library and Enterprise Centre Main Street\, Templemore\, Co. Tipperary.\, E41 W7W3
CATEGORIES:Events,Templemore Events
ATTACH;FMTTYPE=application/pdf:https://www.tipperarylibraries.ie/wp-content/uploads/2026/02/Craft-Group.pdf
ORGANIZER;CN="Templemore Library":MAILTO:templemorelibrary@tipperarycoco.ie
END:VEVENT
BEGIN:VEVENT
DTSTART;TZID=Europe/London:20260324T103000
DTEND;TZID=Europe/London:20260324T123000
DTSTAMP:20260425T050308
CREATED:20260219T195122Z
LAST-MODIFIED:20260219T195122Z
UID:90721-1774348200-1774355400@www.tipperarylibraries.ie
SUMMARY:Templemore Library Craft Group
DESCRIPTION:Templemore Library Craft Group meet Tuesdays from 10.30am – 12.30pm. \nBring along you craft project and enjoy chats and advice of fellow crafters. \nNew crafters welcome.
URL:https://www.tipperarylibraries.ie/event/templemore-library-craft-group-14/2026-03-24/
LOCATION:Templemore Library\, Templemore Library and Enterprise Centre Main Street\, Templemore\, Co. Tipperary.\, E41 W7W3
CATEGORIES:Events,Templemore Events
ATTACH;FMTTYPE=application/pdf:https://www.tipperarylibraries.ie/wp-content/uploads/2026/02/Craft-Group.pdf
ORGANIZER;CN="Templemore Library":MAILTO:templemorelibrary@tipperarycoco.ie
END:VEVENT
BEGIN:VEVENT
DTSTART;TZID=Europe/London:20260317T103000
DTEND;TZID=Europe/London:20260317T123000
DTSTAMP:20260425T050308
CREATED:20260219T195122Z
LAST-MODIFIED:20260219T195122Z
UID:90720-1773743400-1773750600@www.tipperarylibraries.ie
SUMMARY:Templemore Library Craft Group
DESCRIPTION:Templemore Library Craft Group meet Tuesdays from 10.30am – 12.30pm. \nBring along you craft project and enjoy chats and advice of fellow crafters. \nNew crafters welcome.
URL:https://www.tipperarylibraries.ie/event/templemore-library-craft-group-14/2026-03-17/
LOCATION:Templemore Library\, Templemore Library and Enterprise Centre Main Street\, Templemore\, Co. Tipperary.\, E41 W7W3
CATEGORIES:Events,Templemore Events
ATTACH;FMTTYPE=application/pdf:https://www.tipperarylibraries.ie/wp-content/uploads/2026/02/Craft-Group.pdf
ORGANIZER;CN="Templemore Library":MAILTO:templemorelibrary@tipperarycoco.ie
END:VEVENT
BEGIN:VEVENT
DTSTART;TZID=Europe/London:20260310T103000
DTEND;TZID=Europe/London:20260310T123000
DTSTAMP:20260425T050308
CREATED:20260219T195122Z
LAST-MODIFIED:20260219T195122Z
UID:90719-1773138600-1773145800@www.tipperarylibraries.ie
SUMMARY:Templemore Library Craft Group
DESCRIPTION:Templemore Library Craft Group meet Tuesdays from 10.30am – 12.30pm. \nBring along you craft project and enjoy chats and advice of fellow crafters. \nNew crafters welcome.
URL:https://www.tipperarylibraries.ie/event/templemore-library-craft-group-14/2026-03-10/
LOCATION:Templemore Library\, Templemore Library and Enterprise Centre Main Street\, Templemore\, Co. Tipperary.\, E41 W7W3
CATEGORIES:Events,Templemore Events
ATTACH;FMTTYPE=application/pdf:https://www.tipperarylibraries.ie/wp-content/uploads/2026/02/Craft-Group.pdf
ORGANIZER;CN="Templemore Library":MAILTO:templemorelibrary@tipperarycoco.ie
END:VEVENT
BEGIN:VEVENT
DTSTART;TZID=Europe/London:20260303T103000
DTEND;TZID=Europe/London:20260303T123000
DTSTAMP:20260425T050308
CREATED:20260219T195122Z
LAST-MODIFIED:20260219T195122Z
UID:90718-1772533800-1772541000@www.tipperarylibraries.ie
SUMMARY:Templemore Library Craft Group
DESCRIPTION:Templemore Library Craft Group meet Tuesdays from 10.30am – 12.30pm. \nBring along you craft project and enjoy chats and advice of fellow crafters. \nNew crafters welcome.
URL:https://www.tipperarylibraries.ie/event/templemore-library-craft-group-14/2026-03-03/
LOCATION:Templemore Library\, Templemore Library and Enterprise Centre Main Street\, Templemore\, Co. Tipperary.\, E41 W7W3
CATEGORIES:Events,Templemore Events
ATTACH;FMTTYPE=application/pdf:https://www.tipperarylibraries.ie/wp-content/uploads/2026/02/Craft-Group.pdf
ORGANIZER;CN="Templemore Library":MAILTO:templemorelibrary@tipperarycoco.ie
END:VEVENT
BEGIN:VEVENT
DTSTART;TZID=Europe/London:20260224T103000
DTEND;TZID=Europe/London:20260224T123000
DTSTAMP:20260425T050308
CREATED:20260219T195122Z
LAST-MODIFIED:20260219T195306Z
UID:90715-1771929000-1771936200@www.tipperarylibraries.ie
SUMMARY:Templemore Library Craft Group
DESCRIPTION:Templemore Library Craft Group meet Tuesdays from 10.30am – 12.30pm. \nBring along you craft project and enjoy chats and advice of fellow crafters. \nNew crafters welcome.
URL:https://www.tipperarylibraries.ie/event/templemore-library-craft-group-14/2026-02-24/
LOCATION:Templemore Library\, Templemore Library and Enterprise Centre Main Street\, Templemore\, Co. Tipperary.\, E41 W7W3
CATEGORIES:Events,Templemore Events
ATTACH;FMTTYPE=application/pdf:https://www.tipperarylibraries.ie/wp-content/uploads/2026/02/Craft-Group.pdf
ORGANIZER;CN="Templemore Library":MAILTO:templemorelibrary@tipperarycoco.ie
END:VEVENT
END:VCALENDAR